BEGIN:VCALENDAR
VERSION:2.0
PRODID:-//ChamberMaster//Event Calendar 2.0//EN
METHOD:PUBLISH
X-PUBLISHED-TTL:P3D
REFRESH-INTERVAL:P3D
CALSCALE:GREGORIAN
BEGIN:VEVENT
DTSTART:20130306T000000Z
DTEND:20130410T020000Z
X-MICROSOFT-CDO-ALLDAYEVENT:FALSE
SUMMARY:Quickbooks Intro
DESCRIPTION:"Intro to QuickBooks" covers the basics of QuickBooks along with tips to help you become more efficient in your day-to-day functions and to manage your business more effectively.
X-ALT-DESC;FMTTYPE=text/html:<p>\n	&quot\;Intro to QuickBooks&quot\; covers the basics of QuickBooks along with tips to help you become more efficient in your day-to-day functions and to manage your business more effectively.</p>\n
LOCATION:211 N. Carroll St.\, Madison\, WI. 53703
UID:e.1220.2727
SEQUENCE:3
DTSTAMP:20260423T043904Z
URL:http://greatermadisonchamber.chambermaster.com/events/details/quickbooks-intro-03-05-2013-2727
END:VEVENT

END:VCALENDAR
