BEGIN:VCALENDAR
VERSION:2.0
PRODID:-//ChamberMaster//Event Calendar 2.0//EN
METHOD:PUBLISH
X-PUBLISHED-TTL:P3D
REFRESH-INTERVAL:P3D
CALSCALE:GREGORIAN
BEGIN:VEVENT
DTSTART:20130722T230000Z
DTEND:20130820T020000Z
X-MICROSOFT-CDO-ALLDAYEVENT:FALSE
SUMMARY:Quickbooks Intro
DESCRIPTION:"Intro to QuickBooks" covers the basics of QuickBooks along with tips to help you become more efficient in your day-to-day functions and to manage your business more effectively.
X-ALT-DESC;FMTTYPE=text/html:&quot\;Intro to QuickBooks&quot\; covers the basics of QuickBooks along with tips to help you become more efficient in your day-to-day functions and to manage your business more effectively.<br />\n
LOCATION:302 S. Gammon Road Madison\, WI 53717
UID:e.1220.2995
SEQUENCE:3
DTSTAMP:20260419T230158Z
URL:http://greatermadisonchamber.chambermaster.com/events/details/quickbooks-intro-07-22-2013-2995
END:VEVENT

END:VCALENDAR
