BEGIN:VCALENDAR
VERSION:2.0
PRODID:-//ChamberMaster//Event Calendar 2.0//EN
METHOD:PUBLISH
X-PUBLISHED-TTL:P3D
REFRESH-INTERVAL:P3D
CALSCALE:GREGORIAN
BEGIN:VEVENT
DTSTART:20140724T230000Z
DTEND:20140829T020000Z
X-MICROSOFT-CDO-ALLDAYEVENT:FALSE
SUMMARY:Quickbooks Intro
DESCRIPTION:"Intro to QuickBooks" covers the basics of QuickBooks along with tips to help you become more efficient in your day-to-day functions and to manage your business more effectively.
X-ALT-DESC;FMTTYPE=text/html:&quot\;Intro to QuickBooks&quot\; covers the basics of QuickBooks along with tips to help you become more efficient in your day-to-day functions and to manage your business more effectively.
LOCATION:Madison College West\, 302 S. Gammon Rd.
UID:e.1220.3923
SEQUENCE:3
DTSTAMP:20260421T083507Z
URL:http://greatermadisonchamber.chambermaster.com/events/details/quickbooks-intro-07-24-2014-3923
END:VEVENT

END:VCALENDAR
