BEGIN:VCALENDAR
VERSION:2.0
PRODID:-//ChamberMaster//Event Calendar 2.0//EN
METHOD:PUBLISH
X-PUBLISHED-TTL:P3D
REFRESH-INTERVAL:P3D
CALSCALE:GREGORIAN
BEGIN:VEVENT
DTSTART;VALUE=DATE:20140124
DTEND;VALUE=DATE:20140127
TRANSP:TRANSPARENT
X-MICROSOFT-CDO-ALLDAYEVENT:TRUE
SUMMARY:Remodeling Expo
DESCRIPTION:Our Annual Remodeling Expo will be held January 24-26\, 2014.  This year\, admission is free!  Join us for educational seminars and to meet experienced\, insightful remodeling exhibitors!  Feel free to contact our office with any questions.
X-ALT-DESC;FMTTYPE=text/html:Our Annual Remodeling Expo will be held January 24-26\, 2014. &nbsp\;This year\, admission is free! &nbsp\;Join us for educational seminars and to meet experienced\, insightful remodeling exhibitors! &nbsp\;Feel free to contact our office with any questions.
LOCATION:Marriott West Convention Center\, Middleton WI
UID:e.1220.2791
SEQUENCE:3
DTSTAMP:20260422T220444Z
URL:http://greatermadisonchamber.chambermaster.com/events/details/remodeling-expo-01-24-2014-2791
END:VEVENT

END:VCALENDAR
