BEGIN:VCALENDAR
VERSION:2.0
PRODID:-//ChamberMaster//Event Calendar 2.0//EN
METHOD:PUBLISH
X-PUBLISHED-TTL:P3D
REFRESH-INTERVAL:P3D
CALSCALE:GREGORIAN
BEGIN:VEVENT
DTSTART:20130603T230000Z
DTEND:20130723T013000Z
X-MICROSOFT-CDO-ALLDAYEVENT:FALSE
SUMMARY:Russian 1
DESCRIPTION:"Russian 1" introduces students to the basics of conversational Russian\, grammar and history\; students have the opportunity to learn to write\, read\, and speak simple\, natural Russian\; this class is useful for traveling or learning about Russian culture. Contact MATC Continuing Education for more information about any particular course\; for Madison area/Dane county courses\, phone (608) 258-2301. For locations outside Dane county\, please contact the appropriate regional campus for more information.
X-ALT-DESC;FMTTYPE=text/html:<p>\n	&quot\;Russian 1&quot\; introduces students to the basics of conversational Russian\, grammar and history\; students have the opportunity to learn to write\, read\, and speak simple\, natural Russian\; this class is useful for traveling or learning about Russian culture. Contact MATC Continuing Education for more information about any particular course\; for Madison area/Dane county courses\, phone (608) 258-2301. For locations outside Dane county\, please contact the appropriate regional campus for more information.</p>\n
LOCATION:1701 Wright St.\, Madison\, Wi. 53704
UID:e.1220.2905
SEQUENCE:3
DTSTAMP:20260424T095431Z
URL:http://greatermadisonchamber.chambermaster.com/events/details/russian-1-06-03-2013-2905
END:VEVENT

END:VCALENDAR
