BEGIN:VCALENDAR
VERSION:2.0
PRODID:-//ChamberMaster//Event Calendar 2.0//EN
METHOD:PUBLISH
X-PUBLISHED-TTL:P3D
REFRESH-INTERVAL:P3D
CALSCALE:GREGORIAN
BEGIN:VEVENT
DTSTART:20130314T233000Z
DTEND:20130405T020000Z
X-MICROSOFT-CDO-ALLDAYEVENT:FALSE
SUMMARY:Selling on eBay
DESCRIPTION:"Selling on eBay" provides you the opportunity to learn strategies to create a business on eBay.com and with other ecommerce channels.
X-ALT-DESC;FMTTYPE=text/html:<p>\n	&quot\;Selling on eBay&quot\; provides you the opportunity to learn strategies to create a business on eBay.com and with other ecommerce channels.</p>\n
LOCATION:1701 Wright Street Madison\, WI 53704
UID:e.1220.2687
SEQUENCE:3
DTSTAMP:20260423T043904Z
URL:http://greatermadisonchamber.chambermaster.com/events/details/selling-on-ebay-03-14-2013-2687
END:VEVENT

END:VCALENDAR
