BEGIN:VCALENDAR
VERSION:2.0
PRODID:-//ChamberMaster//Event Calendar 2.0//EN
METHOD:PUBLISH
X-PUBLISHED-TTL:P3D
REFRESH-INTERVAL:P3D
CALSCALE:GREGORIAN
BEGIN:VEVENT
DTSTART:20130514T160000Z
DTEND:20130514T180000Z
X-MICROSOFT-CDO-ALLDAYEVENT:FALSE
SUMMARY:SharePoint Online Lunch and Learn
DESCRIPTION:Share ideas and expertise\, create custom solutions for specific needs\, and find the right business information to make better decisions. SharePoint Online offers the powerful features of SharePoint without the associated overhead of managing the infrastructure on your own. Flexible management options ensure that you still retain the control you need to meet the compliance requirements of your organization.
X-ALT-DESC;FMTTYPE=text/html:<font size="3"><font face="Calibri">Share ideas and expertise\, create custom solutions for specific needs\, and find the right business information to make better decisions.<span style="mso-spacerun: yes\;"> </span>SharePoint Online offers the powerful features of SharePoint without the associated overhead of managing the infrastructure on your own.<span style="mso-spacerun: yes\;"> </span>Flexible management options ensure that you still retain the control you need to meet the compliance requirements of your organization.<o:p></o:p></font></font>
LOCATION:MGE Innovation Center 510 Charmany Drive\, Room 50
UID:e.1220.2836
SEQUENCE:3
DTSTAMP:20260422T220443Z
URL:http://greatermadisonchamber.chambermaster.com/events/details/sharepoint-online-lunch-and-learn-05-14-2013-2836
END:VEVENT

END:VCALENDAR
