BEGIN:VCALENDAR
VERSION:2.0
PRODID:-//ChamberMaster//Event Calendar 2.0//EN
METHOD:PUBLISH
X-PUBLISHED-TTL:P3D
REFRESH-INTERVAL:P3D
CALSCALE:GREGORIAN
BEGIN:VEVENT
DTSTART:20131017T153000Z
DTEND:20131017T170000Z
X-MICROSOFT-CDO-ALLDAYEVENT:FALSE
SUMMARY:SharePoint Webinar
DESCRIPTION:Share ideas and expertise\, create custom solutions for specific needs\, and find the right business information to make better decisions.  SharePoint Online offers the powerful features of SharePoint without the associated overhead of managing the infrastructure on your own. Flexible management options ensure that you still retain the control you need to meet the compliance requirements of your organization.
X-ALT-DESC;FMTTYPE=text/html:<span style="color: rgb(0\, 0\, 0)\; font-family: 'Helvetica Nue'\, Arial\, Helvetica\, sans-serif\; line-height: 19.5px\;">Share ideas and expertise\, create custom solutions for specific needs\, and find the right business information to make better decisions.</span><span style="border: 0px\; font-family: 'Helvetica Nue'\, Arial\, Helvetica\, sans-serif\; margin: 0px\; outline: 0px\; padding: 0px\; vertical-align: baseline\; color: rgb(0\, 0\, 0)\; line-height: 19.5px\;">&nbsp\;&nbsp\;</span><span style="color: rgb(0\, 0\, 0)\; font-family: 'Helvetica Nue'\, Arial\, Helvetica\, sans-serif\; line-height: 19.5px\;">SharePoint Online offers the powerful features of SharePoint without the associated overhead of managing the infrastructure on your own.</span><span style="border: 0px\; font-family: 'Helvetica Nue'\, Arial\, Helvetica\, sans-serif\; margin: 0px\; outline: 0px\; padding: 0px\; vertical-align: baseline\; color: rgb(0\, 0\, 0)\; line-height: 19.5px\;">&nbsp\;</span><span style="color: rgb(0\, 0\, 0)\; font-family: 'Helvetica Nue'\, Arial\, Helvetica\, sans-serif\; line-height: 19.5px\;">Flexible management options ensure that you still retain the control you need to meet the compliance requirements of your organization.</span>
LOCATION:Webinar (Online Meeting)
UID:e.1220.3219
SEQUENCE:3
DTSTAMP:20260419T135117Z
URL:http://greatermadisonchamber.chambermaster.com/events/details/sharepoint-webinar-10-17-2013-3219
END:VEVENT

END:VCALENDAR
