BEGIN:VCALENDAR
VERSION:2.0
PRODID:-//ChamberMaster//Event Calendar 2.0//EN
METHOD:PUBLISH
X-PUBLISHED-TTL:P3D
REFRESH-INTERVAL:P3D
CALSCALE:GREGORIAN
BEGIN:VEVENT
DTSTART:20130309T153000Z
DTEND:20130504T170000Z
X-MICROSOFT-CDO-ALLDAYEVENT:FALSE
SUMMARY:Sign Language 1
DESCRIPTION:Students learn basic skills of the American Sign Language (ASL) used by and for the deaf. Students learn basic ASL questions\, commands\, and simple sentences. Information about the deaf community is also presented.
X-ALT-DESC;FMTTYPE=text/html:<p>\n	Students learn basic skills of the American Sign Language (ASL) used by and for the deaf. Students learn basic ASL questions\, commands\, and simple sentences. Information about the deaf community is also presented.</p>\n
LOCATION:302 S. Gammon Rd.\, Madison Wi. 53713
UID:e.1220.2723
SEQUENCE:3
DTSTAMP:20260422T092703Z
URL:http://greatermadisonchamber.chambermaster.com/events/details/sign-language-1-03-09-2013-2723
END:VEVENT

END:VCALENDAR
