BEGIN:VCALENDAR
VERSION:2.0
PRODID:-//ChamberMaster//Event Calendar 2.0//EN
METHOD:PUBLISH
X-PUBLISHED-TTL:P3D
REFRESH-INTERVAL:P3D
CALSCALE:GREGORIAN
BEGIN:VEVENT
DTSTART:20130603T230000Z
DTEND:20130627T013000Z
X-MICROSOFT-CDO-ALLDAYEVENT:FALSE
SUMMARY:Sign Language 1
DESCRIPTION:Students learn basic skills of the American Sign Language (ASL) used by and for the deaf. Students learn basic ASL questions\, commands\, and simple sentences. Information about the deaf community is also presented.
X-ALT-DESC;FMTTYPE=text/html:<p>\n	Students learn basic skills of the American Sign Language (ASL) used by and for the deaf. Students learn basic ASL questions\, commands\, and simple sentences. Information about the deaf community is also presented.</p>\n
LOCATION:302 S. Gammon Road\, Madison\, WI. 53703
UID:e.1220.2926
SEQUENCE:3
DTSTAMP:20260425T005745Z
URL:http://greatermadisonchamber.chambermaster.com/events/details/sign-language-1-06-03-2013-2926
END:VEVENT

END:VCALENDAR
