BEGIN:VCALENDAR
VERSION:2.0
PRODID:-//ChamberMaster//Event Calendar 2.0//EN
METHOD:PUBLISH
X-PUBLISHED-TTL:P3D
REFRESH-INTERVAL:P3D
CALSCALE:GREGORIAN
BEGIN:VEVENT
DTSTART:20150310T223000Z
DTEND:20150311T000000Z
X-MICROSOFT-CDO-ALLDAYEVENT:FALSE
SUMMARY:SMALL BUSINESS ? WordPress 101
DESCRIPTION:Learn the basics of Wordpress: what it is\, what it can do and some helpful "how to" information\, like how to set it up. James Lloyd and Matt Nelson will be here to walk you through the basics.\n\n\n\nTo reserve your spot please visit our upcoming events page http://dreambank.amfam.com/stores/dreambank/807
X-ALT-DESC;FMTTYPE=text/html:Learn the basics of Wordpress: what it is\, what it can do and some helpful &quot\;how to&quot\; information\, like how to set it up. James Lloyd and Matt Nelson will be here to walk you through the basics.<br />\n<br />\nTo reserve your spot please visit our upcoming events page http://dreambank.amfam.com/stores/dreambank/807
LOCATION:DreamBank One North Pinckney Madison\, WI 53703
UID:e.1220.5723
SEQUENCE:3
DTSTAMP:20260423T014020Z
URL:http://greatermadisonchamber.chambermaster.com/events/details/small-business-wordpress-101-03-10-2015-5723
END:VEVENT

END:VCALENDAR
