BEGIN:VCALENDAR
VERSION:2.0
PRODID:-//ChamberMaster//Event Calendar 2.0//EN
METHOD:PUBLISH
X-PUBLISHED-TTL:P3D
REFRESH-INTERVAL:P3D
CALSCALE:GREGORIAN
BEGIN:VEVENT
DTSTART:20130202T200000Z
DTEND:20130203T020000Z
X-MICROSOFT-CDO-ALLDAYEVENT:FALSE
SUMMARY:Souper Bowl XVII
DESCRIPTION:Souper Bowl is an evening of food\, art\, and entertainment\, bringing the Madison community together to support Habitat for Humanity of Dane County. Larger and more decorative bowls are sold in the silent Pro Bowl auction.  The student chapter of Habitat for Humanity of Dane County is currently constructing its 13th student build home in the Renaissance in the Park neighborhood in Fitchburg.
X-ALT-DESC;FMTTYPE=text/html:<span style="font-family:">Souper Bowl is an evening of food\, art\, and entertainment\, bringing the Madison community together to support Habitat for Humanity of Dane County. Larger and more decorative bowls are sold in the silent Pro Bowl auction.&nbsp\; The student chapter of Habitat for Humanity of Dane County is currently constructing its 13th student build home in the Renaissance in the Park neighborhood in Fitchburg. &nbsp\;</span>\n<p class="MsoNormal">\n	<span style="font-family:">&nbsp\;</span></p>\n
LOCATION:Madison West High School\, 30 Ash St.\, Madison
UID:e.1220.2642
SEQUENCE:3
DTSTAMP:20260424T154300Z
URL:http://greatermadisonchamber.chambermaster.com/events/details/souper-bowl-xvii-02-02-2013-2642
END:VEVENT

END:VCALENDAR
