BEGIN:VCALENDAR
VERSION:2.0
PRODID:-//ChamberMaster//Event Calendar 2.0//EN
METHOD:PUBLISH
X-PUBLISHED-TTL:P3D
REFRESH-INTERVAL:P3D
CALSCALE:GREGORIAN
BEGIN:VEVENT
DTSTART:20130603T230000Z
DTEND:20130623T013000Z
X-MICROSOFT-CDO-ALLDAYEVENT:FALSE
SUMMARY:Spanish 1
DESCRIPTION:"Spanish 1" is an introductory course in Spanish language\, including grammar\, conversation\, writing\, and syntax appropriate to the students' skill level and age.
X-ALT-DESC;FMTTYPE=text/html:<p>\n	&quot\;Spanish 1&quot\; is an introductory course in Spanish language\, including grammar\, conversation\, writing\, and syntax appropriate to the students&#39\; skill level and age.</p>\n
LOCATION:211 N. Carroll St.\, Madison\, Wi. 53703
UID:e.1220.2907
SEQUENCE:3
DTSTAMP:20260421T132656Z
URL:http://greatermadisonchamber.chambermaster.com/events/details/spanish-1-06-03-2013-2907
END:VEVENT

END:VCALENDAR
