BEGIN:VCALENDAR
VERSION:2.0
PRODID:-//ChamberMaster//Event Calendar 2.0//EN
METHOD:PUBLISH
X-PUBLISHED-TTL:P3D
REFRESH-INTERVAL:P3D
CALSCALE:GREGORIAN
BEGIN:VEVENT
DTSTART:20130617T230000Z
DTEND:20130806T013000Z
X-MICROSOFT-CDO-ALLDAYEVENT:FALSE
SUMMARY:Spanish 2
DESCRIPTION:This course will provide a variety of topic-focused classes using advanced Spanish techniques.
X-ALT-DESC;FMTTYPE=text/html:<p>\n	This course will provide a variety of topic-focused classes using advanced Spanish techniques.</p>\n
LOCATION:211 North Carroll Street\, Madison\, WI. 53707
UID:e.1220.2928
SEQUENCE:3
DTSTAMP:20260420T004428Z
URL:http://greatermadisonchamber.chambermaster.com/events/details/spanish-2-06-17-2013-2928
END:VEVENT

END:VCALENDAR
