BEGIN:VCALENDAR
VERSION:2.0
PRODID:-//ChamberMaster//Event Calendar 2.0//EN
METHOD:PUBLISH
X-PUBLISHED-TTL:P3D
REFRESH-INTERVAL:P3D
CALSCALE:GREGORIAN
BEGIN:VEVENT
DTSTART:20121012T170000Z
DTEND:20121012T230000Z
X-MICROSOFT-CDO-ALLDAYEVENT:FALSE
SUMMARY:String Instrument Step Up Showcase
DESCRIPTION:Come in and test out a vast variety of step up instruments from intermediate to professional. These instruments are great for anyone looking to get a better sound of their instrument\, to someone looking to play professionally. Stop down and see what we have to offer!
X-ALT-DESC;FMTTYPE=text/html:<span style="font-size:12px\;"><span style="font-family: arial\; "><span style="color: rgb(105\, 105\, 105)\; ">Come in and test out a vast variety of step up instruments from intermediate to professional. These instruments are great for anyone looking to get a better sound of their instrument\, to someone looking to play professionally. Stop down and see what we have to offer!</span></span></span>
LOCATION:Heid Music 7948 Tree Lane\, Madison WI
UID:e.1220.2419
SEQUENCE:3
DTSTAMP:20260425T171406Z
URL:http://greatermadisonchamber.chambermaster.com/events/details/string-instrument-step-up-showcase-10-12-2012-2419
END:VEVENT

END:VCALENDAR
