BEGIN:VCALENDAR
VERSION:2.0
PRODID:-//ChamberMaster//Event Calendar 2.0//EN
METHOD:PUBLISH
X-PUBLISHED-TTL:P3D
REFRESH-INTERVAL:P3D
CALSCALE:GREGORIAN
BEGIN:VEVENT
DTSTART;VALUE=DATE:20131028
DTEND;VALUE=DATE:20131123
TRANSP:TRANSPARENT
X-MICROSOFT-CDO-ALLDAYEVENT:TRUE
SUMMARY:Sum and Substance
DESCRIPTION:The Truax Gallery hosts an exhibition of faculty and staff work from all arts related programs beginning Monday\, Oct. 28\, and running through Nov. 22\, 2013. The show\, entitled "Sum and Substance\," features work from Graphic Design and Illustration\, College Transfer Art\, Visual Communications\, Photography\, and Animation. Every Tuesday and Thursday at 12 p.m. beginning Nov. 7 until November 21\, 2013\, there will be a brown bag lunch talk by artists participating in the current faculty and staff 'Sum and Substance' exhibition.
X-ALT-DESC;FMTTYPE=text/html:The Truax Gallery hosts an exhibition of faculty and staff work from all arts related programs beginning Monday\, Oct. 28\, and running through Nov. 22\, 2013. The show\, entitled &quot\;Sum and Substance\,&quot\; features work from Graphic Design and Illustration\, College Transfer Art\, Visual Communications\, Photography\, and Animation. Every Tuesday and Thursday at 12 p.m. beginning Nov. 7 until November 21\, 2013\, there will be a brown bag lunch talk by artists participating in the current faculty and staff &#39\;Sum and Substance&#39\; exhibition.
LOCATION:Madison College Gallery Truax Gateway 1701 Wright Street Madison\, WI 53704
UID:e.1220.3440
SEQUENCE:3
DTSTAMP:20260424T150023Z
URL:http://greatermadisonchamber.chambermaster.com/events/details/sum-and-substance-10-28-2013-3440
END:VEVENT

END:VCALENDAR
