BEGIN:VCALENDAR
VERSION:2.0
PRODID:-//ChamberMaster//Event Calendar 2.0//EN
METHOD:PUBLISH
X-PUBLISHED-TTL:P3D
REFRESH-INTERVAL:P3D
CALSCALE:GREGORIAN
BEGIN:VEVENT
DTSTART:20131113T010000Z
DTEND:20131113T023000Z
X-MICROSOFT-CDO-ALLDAYEVENT:FALSE
SUMMARY:Terrace Talks
DESCRIPTION:Monona Terrace introduces an exciting new series of talks designed to enlighten\, educate and entertain audiences.  Presenters from around the country\, as well as from our own backyard\, will come to the Terrace to share stories of their personal passions\, innovations in design and thinking\, and the resulting outcome.
X-ALT-DESC;FMTTYPE=text/html:<span style="font-family: &quot\;Times New Roman&quot\;\, &quot\;serif&quot\;\; font-size: 12pt\; mso-fareast-font-family: &quot\;Times New Roman&quot\;\; mso-ansi-language: EN-US\; mso-fareast-language: EN-US\; mso-bidi-language: AR-SA\;"><font color="#000000" face="Times New Roman">Monona Terrace introduces an exciting new series of talks designed to enlighten\, educate and entertain audiences.<span style="mso-spacerun: yes\;">&nbsp\; </span>Presenters from around the country\, as well as from our own backyard\, will come to the Terrace to share stories of their personal passions\, innovations in design and thinking\, and the resulting outcome.</font></span>
LOCATION:Monona Terrace\; One John Nolen Drive\, Madison WI 53703
UID:e.1220.3285
SEQUENCE:3
DTSTAMP:20260419T151254Z
URL:http://greatermadisonchamber.chambermaster.com/events/details/terrace-talks-11-12-2013-3285
END:VEVENT

END:VCALENDAR
