BEGIN:VCALENDAR
VERSION:2.0
PRODID:-//ChamberMaster//Event Calendar 2.0//EN
METHOD:PUBLISH
X-PUBLISHED-TTL:P3D
REFRESH-INTERVAL:P3D
CALSCALE:GREGORIAN
BEGIN:VEVENT
DTSTART:20120804T160000Z
DTEND:20120805T200000Z
X-MICROSOFT-CDO-ALLDAYEVENT:FALSE
SUMMARY:The Big Sip
DESCRIPTION:The Big Sip\n\n	Metcalfe's Market\n\n	Saturday\, August 4 & Sunday\, August 5\n\n	11 a.m. to 3 p.m.\n\n	No cover\n\n	 \n\n	\n\n	\n\n	- Sample all 20 beverages\n\n	 \n\n	 \n\n	\n\n	- Save more than $30 on summer drinks below!\n\n	\n\n	- Live with Triple M at Metcalfe's West from 11-1 (don't miss the Triple M Fun & Games Prize Closet!)\n\n	- Blend-your-own watermelon mocktail at Hilldale (bike blenders courtesy of Saris Cycling Group)\n\n	 \n\n	\n\n	\n\n	Honest Tea\n\n	 \n\n	 \n\n	\n\n	IZZE Sparkling Juice\n\n	\n\n	Vita Coco Coconut Water\n\n	Mr. Q Sparkling Cucumber Soda\n\n	ALO 100% Natural Aloe Vera Juice\n\n	RAAW 100% Pure Fruit and Vegetable Juice\n\n	Karma Kombucha\n\n	Looza Juice Drink\n\n	Sprecher Gourmet Soda\n\n	Sparkling ICE Flavored Spring Water\n\n	Martinelli's Sparkling Lemonade\n\n	Twinings Cold Brewed Iced Tea\n\n	Zevia All Natural Soda\n\n	Fever-Tree Premium Mixers\n\n	Fat & Juicy Bloody Mary Mix\n\n	Kristian Regale Sparkling Beverage\n\n	Sprecher Brewing Company\n\n	O'so Brewing Company\n\n	Wollersheim Wine\n\n	Sassy Cow Milk\n\n	 \n\n	\n\n	\n\n	Metcalfe's Hilldale: 726 N Midvale Blvd\, 608.238.7612\n\n	 \n\n	 \n\n	\n\n	Metcalfe's West: 7455 Mineral Point Rd\, 608.829.3500
X-ALT-DESC;FMTTYPE=text/html:<p align="center" class="MsoNormal" style="text-align: center\; line-height: 150%\; margin: 0in 0in 0pt">\n	<span style="color: #696969"><span style="font-size: 12px"><span style="font-family: arial"><span style="line-height: 150%">The Big Sip</span></span></span></span><span style="line-height: 150%\; font-family: 'calibri'\, 'sans-serif'\; font-size: 10pt"><o:p></o:p></span></p>\n<p align="center" class="MsoNormal" style="text-align: center\; line-height: 150%\; margin: 0in 0in 0pt">\n	<span style="color: #696969"><span style="font-size: 12px"><span style="font-family: arial"><span style="line-height: 150%">Metcalfe&#39\;s Market</span></span></span></span><span style="line-height: 150%\; font-family: 'calibri'\, 'sans-serif'\; font-size: 10pt"><o:p></o:p></span></p>\n<p align="center" class="MsoNormal" style="text-align: center\; line-height: 150%\; margin: 0in 0in 0pt">\n	<span style="color: #696969"><span style="font-size: 12px"><span style="font-family: arial"><span style="line-height: 150%">Saturday\, August 4 &amp\; Sunday\, August 5</span></span></span></span><span style="line-height: 150%\; font-family: 'calibri'\, 'sans-serif'\; font-size: 10pt"><o:p></o:p></span></p>\n<p align="center" class="MsoNormal" style="text-align: center\; line-height: 150%\; margin: 0in 0in 0pt">\n	<span style="color: #696969"><span style="font-size: 12px"><span style="font-family: arial"><span style="line-height: 150%">11 a.m. to 3 p.m.</span></span></span></span><span style="line-height: 150%\; font-family: 'calibri'\, 'sans-serif'\; font-size: 10pt"><o:p></o:p></span></p>\n<p align="center" class="MsoNormal" style="text-align: center\; line-height: 150%\; margin: 0in 0in 0pt">\n	<span style="color: #696969"><span style="font-size: 12px"><span style="font-family: arial"><span style="line-height: 150%">No cover</span></span></span></span><span style="line-height: 150%\; font-family: 'calibri'\, 'sans-serif'\; font-size: 10pt"><o:p></o:p></span></p>\n<p align="center" class="MsoNormal" style="text-align: center\; line-height: 150%\; margin: 0in 0in 0pt">\n	<span style="color: #696969"><span style="font-size: 12px"><span style="font-family: arial"><span style="line-height: 150%"><o:p>&nbsp\;</o:p></span></span></span></span><span style="font-size: 12px"><span style="font-family: arial"><span style="line-height: 150%"><o:p></o:p></span></span></span></p>\n<p align="center" class="MsoNormal" style="text-align: center\; line-height: 150%\; margin: 0in 0in 0pt">\n	<span style="color: #696969"><span style="font-family: arial"><span style="line-height: 150%\; font-size: 10pt"><o:p></o:p></span></span></span></p>\n<p align="center" class="MsoNormal" style="text-align: center\; line-height: 150%\; margin: 0in 0in 0pt">\n	<span style="color: #696969"><span style="font-size: 12px"><span style="line-height: 150%\; font-family: 'calibri'\, 'sans-serif'"><o:p></o:p></span></span></span></p>\n<p align="center" class="MsoNormal" style="text-align: center\; line-height: 150%\; margin: 0in 0in 0pt">\n	<span style="color: #696969"><span style="font-size: 12px"><span style="font-family: arial"><span style="line-height: 150%">- Sample all 20 beverages</span></span></span></span></p>\n<p align="center" class="MsoNormal" style="text-align: center\; line-height: 150%\; margin: 0in 0in 0pt">\n	&nbsp\;</p>\n<p align="center" class="MsoNormal" style="text-align: center\; line-height: 150%\; margin: 0in 0in 0pt">\n	&nbsp\;</p>\n<p align="center" class="MsoNormal" style="text-align: center\; line-height: 150%\; margin: 0in 0in 0pt">\n	<span style="color: #696969"><span style="line-height: 150%\; font-family: 'calibri'\, 'sans-serif'\; font-size: 10pt"><o:p></o:p></span></span></p>\n<p align="center" class="MsoNormal" style="text-align: center\; line-height: 150%\; margin: 0in 0in 0pt">\n	<span style="color: #696969"><span style="font-size: 12px"><span style="font-family: arial"><span style="line-height: 150%">- Save more than $30 on summer drinks below!</span></span></span></span></p>\n<p align="center" class="MsoNormal" style="text-align: center\; line-height: 150%\; margin: 0in 0in 0pt">\n	<span style="line-height: 150%\; font-family: 'calibri'\, 'sans-serif'\; font-size: 10pt"><o:p></o:p></span></p>\n<p align="center" class="MsoNormal" style="text-align: center\; line-height: 150%\; margin: 0in 0in 0pt">\n	<span style="color: #696969"><span style="font-size: 12px"><span style="font-family: arial"><span style="line-height: 150%">- Live with Triple M at Metcalfe&#39\;s West from 11-1 (don&#39\;t miss the Triple M Fun &amp\; Games Prize Closet!)</span></span></span></span><span style="line-height: 150%\; font-family: 'calibri'\, 'sans-serif'\; font-size: 10pt"><o:p></o:p></span></p>\n<p align="center" class="MsoNormal" style="text-align: center\; line-height: 150%\; margin: 0in 0in 0pt">\n	<span style="color: #696969"><span style="font-size: 12px"><span style="font-family: arial"><span style="line-height: 150%">- Blend-your-own watermelon mocktail at Hilldale (bike blenders courtesy of Saris Cycling Group)</span></span></span></span><span style="line-height: 150%\; font-family: 'calibri'\, 'sans-serif'\; font-size: 10pt"><o:p></o:p></span></p>\n<p align="center" class="MsoNormal" style="text-align: center\; line-height: 150%\; margin: 0in 0in 0pt">\n	<span style="color: #696969"><span style="font-size: 12px"><span style="font-family: arial"><span style="line-height: 150%"><o:p>&nbsp\;</o:p></span></span></span></span><span style="font-size: 12px"><span style="font-family: arial"><span style="line-height: 150%"><o:p></o:p></span></span></span></p>\n<p align="center" class="MsoNormal" style="text-align: center\; line-height: 150%\; margin: 0in 0in 0pt">\n	<span style="color: #696969"><span style="font-family: arial"><span style="line-height: 150%\; font-size: 10pt"><o:p></o:p></span></span></span></p>\n<p align="center" class="MsoNormal" style="text-align: center\; line-height: 150%\; margin: 0in 0in 0pt">\n	<span style="color: #696969"><span style="font-size: 12px"><span style="line-height: 150%\; font-family: 'calibri'\, 'sans-serif'"><o:p></o:p></span></span></span></p>\n<p align="center" class="MsoNormal" style="text-align: center\; line-height: 150%\; margin: 0in 0in 0pt">\n	<span style="color: #696969"><span style="font-size: 12px"><span style="font-family: arial"><span style="line-height: 150%">Honest Tea</span></span></span></span></p>\n<p align="center" class="MsoNormal" style="text-align: center\; line-height: 150%\; margin: 0in 0in 0pt">\n	&nbsp\;</p>\n<p align="center" class="MsoNormal" style="text-align: center\; line-height: 150%\; margin: 0in 0in 0pt">\n	&nbsp\;</p>\n<p align="center" class="MsoNormal" style="text-align: center\; line-height: 150%\; margin: 0in 0in 0pt">\n	<span style="color: #696969"><span style="line-height: 150%\; font-family: 'calibri'\, 'sans-serif'\; font-size: 10pt"><o:p></o:p></span></span></p>\n<p align="center" class="MsoNormal" style="text-align: center\; line-height: 150%\; margin: 0in 0in 0pt">\n	<span style="color: #696969"><span style="font-size: 12px"><span style="font-family: arial"><span style="line-height: 150%">IZZE Sparkling Juice</span></span></span></span></p>\n<p align="center" class="MsoNormal" style="text-align: center\; line-height: 150%\; margin: 0in 0in 0pt">\n	<span style="line-height: 150%\; font-family: 'calibri'\, 'sans-serif'\; font-size: 10pt"><o:p></o:p></span></p>\n<p align="center" class="MsoNormal" style="text-align: center\; line-height: 150%\; margin: 0in 0in 0pt">\n	<span style="color: #696969"><span style="font-size: 12px"><span style="font-family: arial"><span style="line-height: 150%">Vita Coco Coconut Water</span></span></span></span><span style="line-height: 150%\; font-family: 'calibri'\, 'sans-serif'\; font-size: 10pt"><o:p></o:p></span></p>\n<p align="center" class="MsoNormal" style="text-align: center\; line-height: 150%\; margin: 0in 0in 0pt">\n	<span style="color: #696969"><span style="font-size: 12px"><span style="font-family: arial"><span style="line-height: 150%">Mr. Q Sparkling Cucumber Soda</span></span></span></span><span style="line-height: 150%\; font-family: 'calibri'\, 'sans-serif'\; font-size: 10pt"><o:p></o:p></span></p>\n<p align="center" class="MsoNormal" style="text-align: center\; line-height: 150%\; margin: 0in 0in 0pt">\n	<span style="color: #696969"><span style="font-size: 12px"><span style="font-family: arial"><span style="line-height: 150%">ALO 100% Natural Aloe Vera Juice</span></span></span></span><span style="line-height: 150%\; font-family: 'calibri'\, 'sans-serif'\; font-size: 10pt"><o:p></o:p></span></p>\n<p align="center" class="MsoNormal" style="text-align: center\; line-height: 150%\; margin: 0in 0in 0pt">\n	<span style="color: #696969"><span style="font-size: 12px"><span style="font-family: arial"><span style="line-height: 150%">RAAW 100% Pure Fruit and Vegetable Juice</span></span></span></span><span style="line-height: 150%\; font-family: 'calibri'\, 'sans-serif'\; font-size: 10pt"><o:p></o:p></span></p>\n<p align="center" class="MsoNormal" style="text-align: center\; line-height: 150%\; margin: 0in 0in 0pt">\n	<span style="color: #696969"><span style="font-size: 12px"><span style="font-family: arial"><span style="line-height: 150%">Karma Kombucha</span></span></span></span></p>\n<p align="center" class="MsoNormal" style="text-align: center\; line-height: 150%\; margin: 0in 0in 0pt">\n	<span style="color: #696969"><span style="font-size: 12px"><span style="font-family: arial"><span style="line-height: 150%">Looza Juice Drink</span></span></span></span><span style="line-height: 150%\; font-family: 'calibri'\, 'sans-serif'\; font-size: 10pt"><o:p></o:p></span></p>\n<p align="center" class="MsoNormal" style="text-align: center\; line-height: 150%\; margin: 0in 0in 0pt">\n	<span style="color: #696969"><span style="font-size: 12px"><span style="font-family: arial"><span style="line-height: 150%">Sprecher Gourmet Soda</span></span></span></span><span style="line-height: 150%\; font-family: 'calibri'\, 'sans-serif'\; font-size: 10pt"><o:p></o:p></span></p>\n<p align="center" class="MsoNormal" style="text-align: center\; line-height: 150%\; margin: 0in 0in 0pt">\n	<span style="color: #696969"><span style="font-size: 12px"><span style="font-family: arial"><span style="line-height: 150%">Sparkling ICE Flavored Spring Water</span></span></span></span><span style="line-height: 150%\; font-family: 'calibri'\, 'sans-serif'\; font-size: 10pt"><o:p></o:p></span></p>\n<p align="center" class="MsoNormal" style="text-align: center\; line-height: 150%\; margin: 0in 0in 0pt">\n	<span style="color: #696969"><span style="font-size: 12px"><span style="font-family: arial"><span style="line-height: 150%">Martinelli&rsquo\;s Sparkling Lemonade</span></span></span></span><span style="line-height: 150%\; font-family: 'calibri'\, 'sans-serif'\; font-size: 10pt"><o:p></o:p></span></p>\n<p align="center" class="MsoNormal" style="text-align: center\; line-height: 150%\; margin: 0in 0in 0pt">\n	<span style="color: #696969"><span style="font-size: 12px"><span style="font-family: arial"><span style="line-height: 150%">Twinings Cold Brewed Iced Tea</span></span></span></span><span style="line-height: 150%\; font-family: 'calibri'\, 'sans-serif'\; font-size: 10pt"><o:p></o:p></span></p>\n<p align="center" class="MsoNormal" style="text-align: center\; line-height: 150%\; margin: 0in 0in 0pt">\n	<span style="color: #696969"><span style="font-size: 12px"><span style="font-family: arial"><span style="line-height: 150%">Zevia All Natural Soda</span></span></span></span><span style="line-height: 150%\; font-family: 'calibri'\, 'sans-serif'\; font-size: 10pt"><o:p></o:p></span></p>\n<p align="center" class="MsoNormal" style="text-align: center\; line-height: 150%\; margin: 0in 0in 0pt">\n	<span style="color: #696969"><span style="font-size: 12px"><span style="font-family: arial"><span style="line-height: 150%">Fever-Tree Premium Mixers</span></span></span></span><span style="line-height: 150%\; font-family: 'calibri'\, 'sans-serif'\; font-size: 10pt"><o:p></o:p></span></p>\n<p align="center" class="MsoNormal" style="text-align: center\; line-height: 150%\; margin: 0in 0in 0pt">\n	<span style="color: #696969"><span style="font-size: 12px"><span style="font-family: arial"><span style="line-height: 150%">Fat &amp\; Juicy Bloody Mary Mix</span></span></span></span><span style="line-height: 150%\; font-family: 'calibri'\, 'sans-serif'\; font-size: 10pt"><o:p></o:p></span></p>\n<p align="center" class="MsoNormal" style="text-align: center\; line-height: 150%\; margin: 0in 0in 0pt">\n	<span style="color: #696969"><span style="font-size: 12px"><span style="font-family: arial"><span style="line-height: 150%">Kristian Regale Sparkling Beverage</span></span></span></span><span style="line-height: 150%\; font-family: 'calibri'\, 'sans-serif'\; font-size: 10pt"><o:p></o:p></span></p>\n<p align="center" class="MsoNormal" style="text-align: center\; line-height: 150%\; margin: 0in 0in 0pt">\n	<span style="color: #696969"><span style="font-size: 12px"><span style="font-family: arial"><span style="line-height: 150%">Sprecher Brewing Company</span></span></span></span><span style="line-height: 150%\; font-family: 'calibri'\, 'sans-serif'\; font-size: 10pt"><o:p></o:p></span></p>\n<p align="center" class="MsoNormal" style="text-align: center\; line-height: 150%\; margin: 0in 0in 0pt">\n	<span style="color: #696969"><span style="font-size: 12px"><span style="font-family: arial"><span style="line-height: 150%">O&rsquo\;so Brewing Company</span></span></span></span><span style="line-height: 150%\; font-family: 'calibri'\, 'sans-serif'\; font-size: 10pt"><o:p></o:p></span></p>\n<p align="center" class="MsoNormal" style="text-align: center\; line-height: 150%\; margin: 0in 0in 0pt">\n	<span style="color: #696969"><span style="font-size: 12px"><span style="font-family: arial"><span style="line-height: 150%">Wollersheim Wine</span></span></span></span><span style="line-height: 150%\; font-family: 'calibri'\, 'sans-serif'\; font-size: 10pt"><o:p></o:p></span></p>\n<p align="center" class="MsoNormal" style="text-align: center\; line-height: 150%\; margin: 0in 0in 0pt">\n	<span style="color: #696969"><span style="font-size: 12px"><span style="font-family: arial"><span style="line-height: 150%">Sassy Cow Milk</span></span></span></span><span style="line-height: 150%\; font-family: 'calibri'\, 'sans-serif'\; font-size: 10pt"><o:p></o:p></span></p>\n<p align="center" class="MsoNormal" style="text-align: center\; line-height: 150%\; margin: 0in 0in 0pt">\n	<span style="color: #696969"><span style="font-size: 12px"><span style="font-family: arial"><span style="line-height: 150%"><o:p>&nbsp\;</o:p></span></span></span></span><span style="font-size: 12px"><span style="font-family: arial"><span style="line-height: 150%"><o:p></o:p></span></span></span></p>\n<p align="center" class="MsoNormal" style="text-align: center\; line-height: 150%\; margin: 0in 0in 0pt">\n	<span style="color: #696969"><span style="font-family: arial"><span style="line-height: 150%\; font-size: 10pt"><o:p></o:p></span></span></span></p>\n<p align="center" class="MsoNormal" style="text-align: center\; line-height: 150%\; margin: 0in 0in 0pt">\n	<span style="color: #696969"><span style="font-size: 12px"><span style="line-height: 150%\; font-family: 'calibri'\, 'sans-serif'"><o:p></o:p></span></span></span></p>\n<p align="center" class="MsoNormal" style="text-align: center\; line-height: 150%\; margin: 0in 0in 0pt">\n	<span style="color: #696969"><span style="font-size: 12px"><span style="font-family: arial"><span style="line-height: 150%">Metcalfe&#39\;s Hilldale: 726 N Midvale Blvd\, 608.238.7612</span></span></span></span></p>\n<p align="center" class="MsoNormal" style="text-align: center\; line-height: 150%\; margin: 0in 0in 0pt">\n	&nbsp\;</p>\n<p align="center" class="MsoNormal" style="text-align: center\; line-height: 150%\; margin: 0in 0in 0pt">\n	&nbsp\;</p>\n<p align="center" class="MsoNormal" style="text-align: center\; line-height: 150%\; margin: 0in 0in 0pt">\n	<span style="color: #696969"><span style="line-height: 150%\; font-family: 'calibri'\, 'sans-serif'\; font-size: 10pt"><o:p></o:p></span></span></p>\n<p align="center" class="MsoNormal" style="text-align: center\; line-height: 150%\; margin: 0in 0in 0pt">\n	<span style="color: #696969"><span style="font-size: 12px"><span style="font-family: arial"><span style="line-height: 150%">Metcalfe&#39\;s West: 7455 Mineral Point Rd\, 608.829.3500</span></span></span></span></p>\n<p align="center" class="MsoNormal" style="text-align: center\; line-height: 150%\; margin: 0in 0in 0pt">\n	<span style="line-height: 150%\; font-family: 'calibri'\, 'sans-serif'\; font-size: 10pt"><o:p></o:p></span></p>\n
LOCATION:Metcalfe's Hilldale and West
UID:e.1220.2207
SEQUENCE:3
DTSTAMP:20260425T180659Z
URL:http://greatermadisonchamber.chambermaster.com/events/details/the-big-sip-08-04-2012-2207
END:VEVENT

END:VCALENDAR
