BEGIN:VCALENDAR
VERSION:2.0
PRODID:-//ChamberMaster//Event Calendar 2.0//EN
METHOD:PUBLISH
X-PUBLISHED-TTL:P3D
REFRESH-INTERVAL:P3D
CALSCALE:GREGORIAN
BEGIN:VEVENT
DTSTART:20130518T123000Z
DTEND:20130518T200000Z
X-MICROSOFT-CDO-ALLDAYEVENT:FALSE
SUMMARY:Tour de Cure 2013
DESCRIPTION:Join the American Diabetes Association as we cycle for a cure for diabetes. Tour de Cure is a ride not a race and offers a memorable day of cycling and fun. This ride is designed for recreational and avid cyclists. Ride times are staggered so team members on different routes can all get together afterwards and celebrate.\n\n	 \n\n	 \n\n	FUN FOR EVERYONE! \n\n	 \n\n	100K (62 miles)       \n\n	50K (33 miles)        \n\n	20 mile         \n\n	13 mile        \n\n	4 mile Family        \n\n	 \n\n	All routes feature moderately level terrain and country views as we head out of Madison to ride\, with fully stocked rest stops\, well marked routes\, and SAG (safety and gear) vehicles. When you return\, you will be treated to a post-ride party with live entertainment and a tasty lunch. \n\n	 \n\n	Choose the course that is right for you. Invite family\, friends and co-workers to join you to form a team in the fight against diabetes. Make a difference in the fight against diabetes. REGISTER TODAY!
X-ALT-DESC;FMTTYPE=text/html:<p class="MsoNormal" style="margin: 0in 0in 0pt\;">\n	<span style="color: black\; font-family: &quot\;Arial&quot\;\,&quot\;sans-serif&quot\;\;"><font size="3">Join the American Diabetes Association as we cycle for a cure for diabetes. Tour de Cure is a ride <u>not</u> a race and offers a memorable day of cycling and fun. This ride is designed for recreational and avid cyclists. Ride times are staggered so team members on different routes can all get together afterwards and celebrate.</font></span></p>\n<p class="MsoNormal" style="margin: 0in 0in 0pt\;">\n	&nbsp\;</p>\n<p class="MsoNormal" style="margin: 0in 0in 0pt\; mso-pagination: none\;">\n	&nbsp\;</p>\n<p class="MsoNormal" style="margin: 0in 0in 0pt\; mso-pagination: none\;">\n	<font color="#000000"><b><span style="font-family: &quot\;Arial Black&quot\;\,&quot\;sans-serif&quot\;\; font-size: 12pt\;">FUN FOR EVERYONE!</span></b><font size="3"><font face="Calibri">&nbsp\;</font></font></font><br />\n	&nbsp\;</p>\n<p class="MsoNormal" style="margin: 0in 0in 10pt\; line-height: normal\; mso-margin-bottom-alt: auto\;">\n	<font color="#000000"><font size="3"><font face="Calibri"><b><span style="font-family: &quot\;Tahoma&quot\;\,&quot\;sans-serif&quot\;\; font-size: 9pt\; mso-fareast-font-family: &quot\;Times New Roman&quot\;\; mso-bidi-font-size: 11.0pt\;">100K (62 miles)</span></b><span style="font-family: &quot\;Tahoma&quot\;\,&quot\;sans-serif&quot\;\; font-size: 9pt\; mso-fareast-font-family: &quot\;Times New Roman&quot\;\;">&nbsp\; &nbsp\;&nbsp\;&nbsp\;&nbsp\;&nbsp\;<o:p></o:p></span></font></font></font></p>\n<p class="MsoNormal" style="margin: 0in 0in 10pt 9pt\; line-height: normal\; mso-margin-bottom-alt: auto\;">\n	<font color="#000000"><font size="3"><font face="Calibri"><b><span style="font-family: &quot\;Tahoma&quot\;\,&quot\;sans-serif&quot\;\; font-size: 9pt\; mso-fareast-font-family: &quot\;Times New Roman&quot\;\; mso-bidi-font-size: 11.0pt\;">50K (33 miles)</span></b><span style="font-family: &quot\;Tahoma&quot\;\,&quot\;sans-serif&quot\;\; font-size: 9pt\; mso-fareast-font-family: &quot\;Times New Roman&quot\;\;">&nbsp\;&nbsp\;&nbsp\; &nbsp\;&nbsp\;&nbsp\;&nbsp\;<o:p></o:p></span></font></font></font></p>\n<p class="MsoNormal" style="margin: 0in 0in 10pt 9pt\; line-height: normal\; mso-margin-bottom-alt: auto\;">\n	<font color="#000000"><font size="3"><font face="Calibri"><b><span style="font-family: &quot\;Tahoma&quot\;\,&quot\;sans-serif&quot\;\; font-size: 9pt\; mso-fareast-font-family: &quot\;Times New Roman&quot\;\; mso-bidi-font-size: 11.0pt\;">20 mile&nbsp\;&nbsp\;&nbsp\;&nbsp\;&nbsp\;&nbsp\;&nbsp\;&nbsp\; </span></b><span style="font-family: &quot\;Tahoma&quot\;\,&quot\;sans-serif&quot\;\; font-size: 9pt\; mso-fareast-font-family: &quot\;Times New Roman&quot\;\;"><o:p></o:p></span></font></font></font></p>\n<p class="MsoNormal" style="margin: 0in 0in 10pt 9pt\; line-height: normal\; mso-margin-bottom-alt: auto\;">\n	<font color="#000000"><font size="3"><font face="Calibri"><b><span style="font-family: &quot\;Tahoma&quot\;\,&quot\;sans-serif&quot\;\; font-size: 9pt\; mso-fareast-font-family: &quot\;Times New Roman&quot\;\; mso-bidi-font-size: 11.0pt\;">13 mile</span></b><span style="font-family: &quot\;Tahoma&quot\;\,&quot\;sans-serif&quot\;\; font-size: 9pt\; mso-fareast-font-family: &quot\;Times New Roman&quot\;\;">&nbsp\;&nbsp\;&nbsp\; &nbsp\;&nbsp\;&nbsp\;&nbsp\;<o:p></o:p></span></font></font></font></p>\n<p class="MsoNormal" style="margin: 0in 0in 10pt 9pt\; line-height: normal\; mso-margin-bottom-alt: auto\;">\n	<font color="#000000"><font size="3"><font face="Calibri"><b><span style="font-family: &quot\;Tahoma&quot\;\,&quot\;sans-serif&quot\;\; font-size: 9pt\; mso-fareast-font-family: &quot\;Times New Roman&quot\;\; mso-bidi-font-size: 11.0pt\;">4 mile Family<span style="mso-spacerun: yes\;">&nbsp\;&nbsp\;&nbsp\;&nbsp\;&nbsp\;&nbsp\; </span>&nbsp\;</span></b><span style="font-family: &quot\;Tahoma&quot\;\,&quot\;sans-serif&quot\;\; font-size: 9pt\; mso-fareast-font-family: &quot\;Times New Roman&quot\;\;"><o:p></o:p></span></font></font></font></p>\n<p class="MsoNormal" style="margin: 0in 0in 0pt\; mso-pagination: none\;">\n	<span style="color: black\; font-family: &quot\;Arial&quot\;\,&quot\;sans-serif&quot\;\;"><font size="3">&nbsp\;</font></span></p>\n<p class="MsoNormal" style="margin: 0in 0in 0pt\;">\n	<span style="color: black\; font-family: &quot\;Arial&quot\;\,&quot\;sans-serif&quot\;\;"><font size="3">All routes feature moderately level terrain and country views as we head out of Madison to ride\, with fully stocked rest stops\, well marked routes\, and SAG (safety and gear) vehicles. When you return\, you will be treated to a post-ride party with live entertainment and a tasty lunch. </font></span></p>\n<p class="MsoNormal" style="margin: 0in 0in 0pt\;">\n	<span style="color: black\; font-family: &quot\;Arial&quot\;\,&quot\;sans-serif&quot\;\;"><font size="3">&nbsp\;</font></span></p>\n<p class="MsoNormal" style="margin: 0in 0in 0pt\;">\n	<span style="color: black\; font-family: &quot\;Arial&quot\;\,&quot\;sans-serif&quot\;\;"><font size="3">Choose the course that is right for you. Invite family\, friends and co-workers to join you to form </font></span><span style="color: black\; font-family: &quot\;Arial&quot\;\,&quot\;sans-serif&quot\;\;"><font size="3">a team in the fight against diabetes. Make a difference in the fight against diabetes. </font></span><span style="color: black\; font-family: &quot\;Arial&quot\;\,&quot\;sans-serif&quot\;\;"><font size="3">REGISTER TODAY!</font></span></p>\n
LOCATION:American Family Insurance Headquarters 6000 American Parkway Madison\, WI 53783
UID:e.1220.2839
SEQUENCE:3
DTSTAMP:20260424T104752Z
URL:http://greatermadisonchamber.chambermaster.com/events/details/tour-de-cure-2013-05-18-2013-2839
END:VEVENT

END:VCALENDAR
