BEGIN:VCALENDAR
VERSION:2.0
PRODID:-//ChamberMaster//Event Calendar 2.0//EN
METHOD:PUBLISH
X-PUBLISHED-TTL:P3D
REFRESH-INTERVAL:P3D
CALSCALE:GREGORIAN
BEGIN:VEVENT
DTSTART;VALUE=DATE:20121108
DTEND;VALUE=DATE:20121109
TRANSP:TRANSPARENT
X-MICROSOFT-CDO-ALLDAYEVENT:TRUE
SUMMARY:Until Tuesday-LIVE!
DESCRIPTION:REACH a Child\, in association with Occupaws and Vetsroll.org\, will be welcoming New York Times Bestselling Author Luis Carlos Montalvan to Quaker Steak and Lube in Middleton\, for two speaking engagements.  Luis wrote the book "Until Tuesday" about his service in the Army\, the debilitating Traumatic Brain Injury he sustained\, along with the crippling PTSD he suffered and how his life was saved when he met his service dog\, Tuesday.  Luis will be speaking on Veterans issues\, along with the rights of the Disabled and those with service dogs.  \n\n\n\nThere will be two events.  A luncheon\, taking place from 11:30am-1:00pm\, with a buffet style lunch\, book signing and a presentation.  The evening event will consist of a  beer/wine tasting\, with food pairings\, a silent auction\, book signing and a presentation and will take place from 5:30pm-8:00pm.\n\n\n\nCopies of the book will be for sale on site.  Tickets for the lunch event are $35 and $30 for Veterans or anyone with a service dog.  Tickets for the evening event are $65 and $60 for Veterans or anyone with a service dog.  Tickets can be purchased at www.reachachild.org\, occupaws.org or at 800-383-2267.  Seating is limited\, so reserve your spot today!
X-ALT-DESC;FMTTYPE=text/html:<span style="color:#696969\;"><span style="font-size: 12px\; "><span style="font-family: arial\; ">REACH a Child\, in association with Occupaws and Vetsroll.org\, will be welcoming New York Times Bestselling Author Luis Carlos Montalvan to Quaker Steak and Lube in Middleton\, for two speaking engagements. &nbsp\;Luis wrote the book &quot\;Until Tuesday&quot\; about his service in the Army\, the debilitating Traumatic Brain Injury he sustained\, along with the crippling PTSD he suffered and how his life was saved when he met his service dog\, Tuesday. &nbsp\;Luis will be speaking on Veterans issues\, along with the rights of the Disabled and those with service dogs. &nbsp\;<br />\n<br />\nThere will be two events. &nbsp\;A luncheon\, taking place from 11:30am-1:00pm\, with a buffet style lunch\, book signing and a presentation. &nbsp\;The evening event will consist of a &nbsp\;beer/wine tasting\, with food pairings\, a silent auction\, book signing and a presentation and will take place from 5:30pm-8:00pm.<br />\n<br />\nCopies of the book will be for sale on site. &nbsp\;Tickets for the lunch event are $35 and $30 for Veterans or anyone with a service dog. &nbsp\;Tickets for the evening event are $65 and $60 for Veterans or anyone with a service dog. &nbsp\;Tickets can be purchased at www.reachachild.org\, occupaws.org or at 800-383-2267. &nbsp\;Seating is limited\, so reserve your spot today!</span></span></span>
LOCATION:Quaker Steak and Lube\; Middleton\, WI
UID:e.1220.2402
SEQUENCE:3
DTSTAMP:20260426T005855Z
URL:http://greatermadisonchamber.chambermaster.com/events/details/until-tuesday-live-11-08-2012-2402
END:VEVENT

END:VCALENDAR
