BEGIN:VCALENDAR
VERSION:2.0
PRODID:-//ChamberMaster//Event Calendar 2.0//EN
METHOD:PUBLISH
X-PUBLISHED-TTL:P3D
REFRESH-INTERVAL:P3D
CALSCALE:GREGORIAN
BEGIN:VEVENT
DTSTART:20120818T123000Z
DTEND:20120818T140000Z
X-MICROSOFT-CDO-ALLDAYEVENT:FALSE
SUMMARY:US Cellular - Device Workshop
DESCRIPTION:One-on-one training: How to customize your Smartphone to make you more profitable\, professional & efficient.
X-ALT-DESC;FMTTYPE=text/html:<p>\n	<span style="color:#696969\;"><span style="font-size: 12px\; "><span style="font-family: arial\; ">One-on-one training: How&nbsp\;to customize your Smartphone to make you more profitable\,&nbsp\;professional &amp\; efficient.</span></span></span></p>\n
LOCATION:101 Junction Rd. Madison WI. (US Cellular)
UID:e.1220.2313
SEQUENCE:3
DTSTAMP:20260425T183720Z
URL:http://greatermadisonchamber.chambermaster.com/events/details/us-cellular-device-workshop-08-18-2012-2313
END:VEVENT

END:VCALENDAR
