BEGIN:VCALENDAR
VERSION:2.0
PRODID:-//ChamberMaster//Event Calendar 2.0//EN
METHOD:PUBLISH
X-PUBLISHED-TTL:P3D
REFRESH-INTERVAL:P3D
CALSCALE:GREGORIAN
BEGIN:VEVENT
DTSTART:20130612T230000Z
DTEND:20130613T020000Z
X-MICROSOFT-CDO-ALLDAYEVENT:FALSE
SUMMARY:Using a Digital Camera Basics
DESCRIPTION:This course covers the fundamentals of point-and-shoot digital camera photography\, explanation of typical camera controls\, adjusting and using flash\, shooting modes\, camera set-up menu\, and exposure controls\, and how to retrieve photos from the camera.
X-ALT-DESC;FMTTYPE=text/html:<p>\n	This course covers the fundamentals of point-and-shoot digital camera photography\, explanation of typical camera controls\, adjusting and using flash\, shooting modes\, camera set-up menu\, and exposure controls\, and how to retrieve photos from the camera.</p>\n
LOCATION:302 S. Gammon Rd.\, Madison\, WI. 53717
UID:e.1220.2951
SEQUENCE:3
DTSTAMP:20260422T194101Z
URL:http://greatermadisonchamber.chambermaster.com/events/details/using-a-digital-camera-basics-06-12-2013-2951
END:VEVENT

END:VCALENDAR
