BEGIN:VCALENDAR
VERSION:2.0
PRODID:-//ChamberMaster//Event Calendar 2.0//EN
METHOD:PUBLISH
X-PUBLISHED-TTL:P3D
REFRESH-INTERVAL:P3D
CALSCALE:GREGORIAN
BEGIN:VEVENT
DTSTART:20130221T143000Z
DTEND:20130221T213000Z
X-MICROSOFT-CDO-ALLDAYEVENT:FALSE
SUMMARY:Using Tools\, Time and Technology to Maximize your ROI
DESCRIPTION:This one day productivity expo gives you 5 different sessions to teach you how to utilize tools and technology to get more out of each day personally and in your business. \n\nWho should attend? Small Business Owners & Managers  \n\n\n	who want to get more out of their day\n	that feel like they are not getting to what is important\n	who would like to know more about what technology is out there to help their business and personal productivity
X-ALT-DESC;FMTTYPE=text/html:<p>This one day productivity expo gives you 5 different sessions to teach you how to utilize tools and technology to get more out of each day personally and in your business.&nbsp\;</p>\n\n<p><strong>Who should attend?</strong> <strong>Small Business Owners &amp\; Managers&hellip\; </strong></p>\n\n<ul>\n	<li>who want to get more out of their day</li>\n	<li>that feel like they are not getting to what is important</li>\n	<li>who would like to know more about what technology is out there to help their business and personal productivity</li>\n</ul>\n
LOCATION:UW Madison Grainger Hall 975 University Ave
UID:e.1220.2646
SEQUENCE:3
DTSTAMP:20260423T053002Z
URL:http://greatermadisonchamber.chambermaster.com/events/details/using-tools-time-and-technology-to-maximize-your-roi-02-21-2013-2646
END:VEVENT

END:VCALENDAR
