BEGIN:VCALENDAR
VERSION:2.0
PRODID:-//ChamberMaster//Event Calendar 2.0//EN
METHOD:PUBLISH
X-PUBLISHED-TTL:P3D
REFRESH-INTERVAL:P3D
CALSCALE:GREGORIAN
BEGIN:VEVENT
DTSTART:20130404T133000Z
DTEND:20130404T213000Z
X-MICROSOFT-CDO-ALLDAYEVENT:FALSE
SUMMARY:UW Madison SBDC Project Management
DESCRIPTION:This session takes the mystery out of how to organize and plan projects\, meet deadlines\, and keep the budget under control. You'll benefit by saving time and money through improved plans\, schedules\, and communications
X-ALT-DESC;FMTTYPE=text/html:This session takes the mystery out of how to organize and plan projects\, meet deadlines\, and keep the budget under control. You&rsquo\;ll benefit by saving time and money through improved plans\, schedules\, and communications
LOCATION:UW Madison Grainger Hall 975 University Ave
UID:e.1220.2765
SEQUENCE:3
DTSTAMP:20260424T150023Z
URL:http://greatermadisonchamber.chambermaster.com/events/details/uw-madison-sbdc-project-management-04-04-2013-2765
END:VEVENT

END:VCALENDAR
