BEGIN:VCALENDAR
VERSION:2.0
PRODID:-//ChamberMaster//Event Calendar 2.0//EN
METHOD:PUBLISH
X-PUBLISHED-TTL:P3D
REFRESH-INTERVAL:P3D
CALSCALE:GREGORIAN
BEGIN:VEVENT
DTSTART:20130904T230000Z
DTEND:20131121T030000Z
X-MICROSOFT-CDO-ALLDAYEVENT:FALSE
SUMMARY:UW Madison Small Business Development Center SHRM Learning Certificate Program
DESCRIPTION:The SHRM. Learning System Course is designed to provide you with an overview of key areas in human resource management. Materials include six modules that correspond to the six functional areas\, responsibilities\, and associated knowledge as defined by the Human Resource Certification Institute (HRCI). The program is offered in cooperation with the Society for Human Resource Management (SHRM) as study material for the Professional in Human Resources (PHR) and Senior Professional in Human Resources (SPHR) certification examinations administered by HRCI www.hrci.org\n\nThis course is offered in partnership with the Society for Human Resource Management (SHRM).The course investment includes all course materials but does not cover registration for the PHR or SPHR examinations.
X-ALT-DESC;FMTTYPE=text/html:<p>The SHRM. Learning System Course is designed to provide you with an overview of key areas in human resource management. Materials include six modules that correspond to the six functional areas\, responsibilities\, and associated knowledge as defined by the <a href="http://www.hrci.org/" target="_blank">Human Resource Certification Institute (HRCI)</a>. The program is offered in cooperation with the <a href="http://www.shrm.org/" target="_blank">Society for Human Resource Management (SHRM)</a> as study material for the Professional in Human Resources (PHR) and Senior Professional in Human Resources (SPHR) certification examinations administered by HRCI <a href="http://www.hrci.org/">www.hrci.org</a></p>\n\n<p>This course is offered in partnership with the Society for Human Resource Management (SHRM).The course investment includes all course materials but does not cover registration for the PHR or SPHR examinations.</p>\n
LOCATION:UW Madison Grainger Hall 975 University Ave
UID:e.1220.3197
SEQUENCE:3
DTSTAMP:20260421T114748Z
URL:http://greatermadisonchamber.chambermaster.com/events/details/uw-madison-small-business-development-center-shrm-learning-certificate-program-09-04-2013-3197
END:VEVENT

END:VCALENDAR
