BEGIN:VCALENDAR
VERSION:2.0
PRODID:-//ChamberMaster//Event Calendar 2.0//EN
METHOD:PUBLISH
X-PUBLISHED-TTL:P3D
REFRESH-INTERVAL:P3D
CALSCALE:GREGORIAN
BEGIN:VEVENT
DTSTART:20130110T130000Z
DTEND:20130110T143000Z
X-MICROSOFT-CDO-ALLDAYEVENT:FALSE
SUMMARY:Wake Up With Wegner
DESCRIPTION:Join Wegner CPAs for the next Wake Up With Wegner!  Our tax accountants will lead a discussion on the tax outlook for 2013.\n\n\n\nEnjoy a complimentary continental breakfast at The Egg & I while talking tax tips with Wegner CPAs!\n\n\n\n\n\n"Wake Up With Wegner" is an opportunity for clients/future clients to get advice from our staff on their questions and to network with other business owners.  The series is held on a monthly basis.
X-ALT-DESC;FMTTYPE=text/html:Join Wegner CPAs for the next Wake Up With Wegner!&nbsp\; Our tax accountants will lead a discussion on the tax outlook for 2013.<br />\n<br />\nEnjoy a complimentary continental breakfast at&nbsp\;The Egg &amp\; I&nbsp\;while talking tax tips with Wegner CPAs!<br />\n<br />\n<br />\n&quot\;Wake Up With Wegner&quot\; is an opportunity for clients/future clients to get advice from our staff on their questions and to network with other business owners.&nbsp\; The series is held on a monthly basis.
LOCATION:The Egg & I\, 2501 W. Beltline Hwy #111\, Madison
UID:e.1220.2585
SEQUENCE:3
DTSTAMP:20260424T150023Z
URL:http://greatermadisonchamber.chambermaster.com/events/details/wake-up-with-wegner-01-10-2013-2585
END:VEVENT

END:VCALENDAR
