BEGIN:VCALENDAR
VERSION:2.0
PRODID:-//ChamberMaster//Event Calendar 2.0//EN
METHOD:PUBLISH
X-PUBLISHED-TTL:P3D
REFRESH-INTERVAL:P3D
CALSCALE:GREGORIAN
BEGIN:VEVENT
DTSTART:20130319T230000Z
DTEND:20130403T020000Z
X-MICROSOFT-CDO-ALLDAYEVENT:FALSE
SUMMARY:Web Design Intro
DESCRIPTION:Introduces the fundamentals of web development. Includes a basic understanding of servers and hosting\, file structures and page fetching\, HTML\, the use of style sheets\, eb graphic design and content management and also sets a foundation for furher study.
X-ALT-DESC;FMTTYPE=text/html:<p>\n	Introduces the fundamentals of web development. Includes a basic understanding of servers and hosting\, file structures and page fetching\, HTML\, the use of style sheets\, eb graphic design and content management and also sets a foundation for furher study.</p>\n
LOCATION:302 S. Gammon Road Madison\, WI 53719
UID:e.1220.2682
SEQUENCE:3
DTSTAMP:20260423T052932Z
URL:http://greatermadisonchamber.chambermaster.com/events/details/web-design-intro-03-19-2013-2682
END:VEVENT

END:VCALENDAR
