BEGIN:VCALENDAR
VERSION:2.0
PRODID:-//ChamberMaster//Event Calendar 2.0//EN
METHOD:PUBLISH
X-PUBLISHED-TTL:P3D
REFRESH-INTERVAL:P3D
CALSCALE:GREGORIAN
BEGIN:VEVENT
DTSTART:20130725T230000Z
DTEND:20130809T020000Z
X-MICROSOFT-CDO-ALLDAYEVENT:FALSE
SUMMARY:Web Design Intro
DESCRIPTION:Introduces the fundamentals of web development. Includes a basic understanding of servers and hosting\, file structures and page fetching\, HTML\, the use of style sheets\, eb graphic design and content management and also sets a foundation for furher study.
X-ALT-DESC;FMTTYPE=text/html:Introduces the fundamentals of web development. Includes a basic understanding of servers and hosting\, file structures and page fetching\, HTML\, the use of style sheets\, eb graphic design and content management and also sets a foundation for furher study.<br />\n<br />\n
LOCATION:302 S. Gammon Road Madison\, WI 53717
UID:e.1220.3003
SEQUENCE:3
DTSTAMP:20260419T230158Z
URL:http://greatermadisonchamber.chambermaster.com/events/details/web-design-intro-07-25-2013-3003
END:VEVENT

END:VCALENDAR
