BEGIN:VCALENDAR
VERSION:2.0
PRODID:-//ChamberMaster//Event Calendar 2.0//EN
METHOD:PUBLISH
X-PUBLISHED-TTL:P3D
REFRESH-INTERVAL:P3D
CALSCALE:GREGORIAN
BEGIN:VEVENT
DTSTART:20131126T000000Z
DTEND:20131210T030000Z
X-MICROSOFT-CDO-ALLDAYEVENT:FALSE
SUMMARY:Web Design Intro
DESCRIPTION:This course introduces the fundamentals of web development. It is intended\n\nto instill a basic understanding of servers and hosting\, file structures and\n\npage fetching\, HTML\, the use of style sheets\, web graphic design and content\n\nmanagement\, and will set a foundation for further study. This is the first\n\nrecommended course to complete the non-credit basic web design certificate\;\n\nhowever\, students do not need to be pursuing the certificate to take this course.\n\nStudents should have intermediate-level computer skills.
X-ALT-DESC;FMTTYPE=text/html:This course introduces the fundamentals of web development. It is intended<br />\nto instill a basic understanding of servers and hosting\, file structures and<br />\npage fetching\, HTML\, the use of style sheets\, web graphic design and content<br />\nmanagement\, and will set a foundation for further study. This is the first<br />\nrecommended course to complete the non-credit basic web design certificate\;<br />\nhowever\, students do not need to be pursuing the certificate to take this course.<br />\nStudents should have intermediate-level computer skills.
LOCATION:Madison College West\, 302 S. Gammon
UID:e.1220.3344
SEQUENCE:3
DTSTAMP:20260420T153213Z
URL:http://greatermadisonchamber.chambermaster.com/events/details/web-design-intro-11-25-2013-3344
END:VEVENT

END:VCALENDAR
