BEGIN:VCALENDAR
VERSION:2.0
PRODID:-//ChamberMaster//Event Calendar 2.0//EN
METHOD:PUBLISH
X-PUBLISHED-TTL:P3D
REFRESH-INTERVAL:P3D
CALSCALE:GREGORIAN
BEGIN:VEVENT
DTSTART:20120829T210000Z
DTEND:20120830T000000Z
X-MICROSOFT-CDO-ALLDAYEVENT:FALSE
SUMMARY:West Meet & Greet
DESCRIPTION:Learn about the positions we are hiring for and enjoy free food\, drinks and a chance to win great prizes.\n\n	 \n\n	Now Hiring: Full-time Sales Associates in the following industries:\n\n	  Financial   Cellular\n\n	  Industrial   Health Care\n\n	Positions include full benefit package\, monthly\n\n	performance bonus&much more.
X-ALT-DESC;FMTTYPE=text/html:<p class="MsoNormal" style="line-height: normal\; margin: 0in 0in 0pt\; text-autospace: \; mso-layout-grid-align: none">\n	<span style="color:#696969\;"><span style="font-family: arial\; "><span style="font-size: 12px\; ">Learn about the positions we are hiring for and enjoy free food\, drinks and a chance to win great prizes.</span></span></span><br />\n	&nbsp\;</p>\n<p class="MsoNormal" style="line-height: normal\; margin: 0in 0in 0pt\; text-autospace: \; mso-layout-grid-align: none">\n	<span style="color:#696969\;"><span style="font-family: arial\; "><span style="font-size: 12px\; ">Now Hiring: <b>Full-time Sales Associates </b>in the following industries:</span></span></span><span style="font-family: 'times new roman'\, 'serif'\; font-size: 12pt"><o:p></o:p></span></p>\n<p class="MsoNormal" style="line-height: normal\; margin: 0in 0in 0pt\; text-autospace: \; mso-layout-grid-align: none">\n	<span style="color:#696969\;"><span style="font-family: arial\; "><span style="font-size: 12px\; ">&bull\; Financial &bull\; Cellular</span></span></span><span style="font-family: 'times new roman'\, 'serif'\; font-size: 12pt"><o:p></o:p></span></p>\n<p class="MsoNormal" style="line-height: normal\; margin: 0in 0in 0pt\; text-autospace: \; mso-layout-grid-align: none">\n	<span style="color:#696969\;"><span style="font-family: arial\; "><span style="font-size: 12px\; ">&bull\; Industrial &bull\; Health Care</span></span></span><span style="font-family: 'times new roman'\, 'serif'\; font-size: 12pt"><o:p></o:p></span></p>\n<p class="MsoNormal" style="line-height: normal\; margin: 0in 0in 0pt\; text-autospace: \; mso-layout-grid-align: none">\n	<span style="color:#696969\;"><span style="font-family: arial\; "><span style="font-size: 12px\; ">Positions include full benefit package\, monthly</span></span></span><span style="font-family: 'times new roman'\, 'serif'\; font-size: 12pt"><o:p></o:p></span></p>\n<p class="MsoNormal" style="line-height: normal\; margin: 0in 0in 0pt\; text-autospace: \; mso-layout-grid-align: none">\n	<span style="color:#696969\;"><span style="font-family: arial\; "><span style="font-size: 12px\; ">performance bonus&amp\;much more.</span></span></span><span style="font-family: 'times new roman'\, 'serif'\; font-size: 12pt"><o:p></o:p></span></p>\n
LOCATION:Pleasant View Golf Course
UID:e.1220.2326
SEQUENCE:3
DTSTAMP:20260425T180659Z
URL:http://greatermadisonchamber.chambermaster.com/events/details/west-meet-greet-08-29-2012-2326
END:VEVENT

END:VCALENDAR
