BEGIN:VCALENDAR
VERSION:2.0
PRODID:-//ChamberMaster//Event Calendar 2.0//EN
METHOD:PUBLISH
X-PUBLISHED-TTL:P3D
REFRESH-INTERVAL:P3D
CALSCALE:GREGORIAN
BEGIN:VEVENT
DTSTART:20130226T000000Z
DTEND:20130226T010000Z
X-MICROSOFT-CDO-ALLDAYEVENT:FALSE
SUMMARY:Why Commute?
DESCRIPTION:Join us at Redamte for a panel discussion detailing the health\, economic\, environmental\, and social benefits to cycling.
X-ALT-DESC;FMTTYPE=text/html:Join us at Redamte for a panel discussion detailing the health\, economic\, environmental\, and social benefits to cycling.<br />\n<br />\n
LOCATION:Redamte (449 State St.\, Madison WI 53703)
UID:e.1220.2665
SEQUENCE:3
DTSTAMP:20260424T170126Z
URL:http://greatermadisonchamber.chambermaster.com/events/details/why-commute-02-25-2013-2665
END:VEVENT

END:VCALENDAR
