BEGIN:VCALENDAR
VERSION:2.0
PRODID:-//ChamberMaster//Event Calendar 2.0//EN
METHOD:PUBLISH
X-PUBLISHED-TTL:P3D
REFRESH-INTERVAL:P3D
CALSCALE:GREGORIAN
BEGIN:VEVENT
DTSTART;VALUE=DATE:20120804
DTEND;VALUE=DATE:20120805
TRANSP:TRANSPARENT
X-MICROSOFT-CDO-ALLDAYEVENT:TRUE
SUMMARY:WIAC Centennial Celebration
DESCRIPTION:This banquet will be part of the 100th Anniversary of the Wisconsin Intercollegiate Athletic Conference. A 30-member class will also be inducted into the WIAC Hall of Fame at this event to honor those student-athletes\, coaches\, administrators\, officials and others whose contributions and achievements have established and solidified the WIAC's status as the most accomplished Division III conference in NCAA history.  Visit www.alliantenergycenter.com for more information.
X-ALT-DESC;FMTTYPE=text/html:<span style="font-size: 12px"><span style="font-family: arial"><span style="color: #696969"><span style="mso-fareast-font-family: 'times new roman'\; mso-ansi-language: en-us\; mso-fareast-language: en-us\; mso-bidi-language: ar-sa">This banquet will be part of the 100<sup>th</sup> Anniversary of the Wisconsin Intercollegiate Athletic Conference. A 30-member class will also be inducted into the WIAC Hall of Fame at this event to honor </span><span style="mso-fareast-font-family: 'times new roman'\; mso-ansi-language: en-us\; mso-fareast-language: en-us\; mso-bidi-language: ar-sa">those </span></span><span style="mso-bidi-font-size: 9.0pt\; mso-fareast-font-family: 'times new roman'\; mso-ansi-language: en-us\; mso-fareast-language: en-us\; mso-bidi-language: ar-sa"><span style="color: #696969">student-athletes\, coaches\, administrators\, officials and others whose contributions and achievements have established and solidified the WIAC&rsquo\;s status as the most accomplished Division III conference in NCAA history.&nbsp\; Visit </span><a href="http://www.alliantenergycenter.com"><span style="color: #696969">www.alliantenergycenter.com</span></a><span style="color: #696969"> for more information.</span></span></span></span>
LOCATION:Exhibition Hall at the Alliant Energy Center
UID:e.1220.1968
SEQUENCE:3
DTSTAMP:20260426T022116Z
URL:http://greatermadisonchamber.chambermaster.com/events/details/wiac-centennial-celebration-08-04-2012-1968
END:VEVENT

END:VCALENDAR
