BEGIN:VCALENDAR
VERSION:2.0
PRODID:-//ChamberMaster//Event Calendar 2.0//EN
METHOD:PUBLISH
X-PUBLISHED-TTL:P3D
REFRESH-INTERVAL:P3D
CALSCALE:GREGORIAN
BEGIN:VEVENT
DTSTART:20140315T150000Z
DTEND:20140315T190000Z
X-MICROSOFT-CDO-ALLDAYEVENT:FALSE
SUMMARY:Wisconsin MS Summit 2014
DESCRIPTION:During the Wisconsin MS Summit 2014 you will hear from experts about the latest MS research and care\, network with others\, and learn about MS related products and services.
X-ALT-DESC;FMTTYPE=text/html:During the Wisconsin MS Summit 2014 you will hear from experts about the latest MS research and care\, network with others\, and learn about MS related products and services.
LOCATION:Country Springs Conference Center 2810 Golf Rd. Pewaukee\, WI 53072
UID:e.1220.3659
SEQUENCE:3
DTSTAMP:20260419T191046Z
URL:http://greatermadisonchamber.chambermaster.com/events/details/wisconsin-ms-summit-2014-03-15-2014-3659
END:VEVENT

END:VCALENDAR
