BEGIN:VCALENDAR
VERSION:2.0
PRODID:-//ChamberMaster//Event Calendar 2.0//EN
METHOD:PUBLISH
X-PUBLISHED-TTL:P3D
REFRESH-INTERVAL:P3D
CALSCALE:GREGORIAN
BEGIN:VEVENT
DTSTART:20130214T150000Z
DTEND:20130214T210000Z
X-MICROSOFT-CDO-ALLDAYEVENT:FALSE
SUMMARY:Workshop - Waste! I Hate It and So Should You
DESCRIPTION:This in-depth course by Walter Jankowski will cover the Principles of Lean\, identifying waste\, and provide you with a tool belt full of tools and techniques to identify\, prioritize\, and eliminate waste.  This is a stand-alone course\, but it is recommended that you take this session\, then "Lean 101: Taking the Waste Out of Your Processes" in March.  \n\n	 \n\n	This workshop is sponsored by the Wisconsin Center for Performance Excellence.  Participants may join WCPE and receive immediate eligibility for a $50 member discount.
X-ALT-DESC;FMTTYPE=text/html:<p class="MsoNormal" style="margin: 0in 0in 0pt">\n	<font size="3"><font color="#000000"><font face="Times New Roman">This in-depth course by Walter Jankowski will cover the Principles of Lean\, identifying waste\, and provide you with a tool belt full of tools and techniques to identify\, prioritize\, and eliminate waste.<span style="mso-spacerun: yes">&nbsp\; </span>This is a stand-alone course\, but it is recommended that you take this session\, then &ldquo\;Lean 101: Taking the Waste Out of Your Processes&rdquo\; in March.<span style="mso-spacerun: yes">&nbsp\; </span></font></font></font></p>\n<p class="MsoNormal" style="margin: 0in 0in 0pt">\n	<font size="3"><font color="#000000"><font face="Times New Roman">&nbsp\;<o:p></o:p></font></font></font></p>\n<p class="MsoNormal" style="margin: 0in 0in 0pt">\n	<font color="#000000" face="Times New Roman" size="3">This workshop is sponsored by the Wisconsin Center for Performance Excellence.<span style="mso-spacerun: yes">&nbsp\; </span>Participants may join WCPE and receive immediate eligibility for&nbsp\;a $50&nbsp\;member discount.</font></p>\n
LOCATION:Edgewood College - Deming Way campus
UID:e.1220.2626
SEQUENCE:3
DTSTAMP:20260423T105914Z
URL:http://greatermadisonchamber.chambermaster.com/events/details/workshop-waste-i-hate-it-and-so-should-you-02-14-2013-2626
END:VEVENT

END:VCALENDAR
