BEGIN:VCALENDAR
VERSION:2.0
PRODID:-//ChamberMaster//Event Calendar 2.0//EN
METHOD:PUBLISH
X-PUBLISHED-TTL:P3D
REFRESH-INTERVAL:P3D
CALSCALE:GREGORIAN
BEGIN:VEVENT
DTSTART:20130830T003000Z
DTEND:20131018T013000Z
X-MICROSOFT-CDO-ALLDAYEVENT:FALSE
SUMMARY:Yoga
DESCRIPTION:"Yoga" is a powerful antidote to the stresses of modern-life and will do more than make you strong and flexible\; it is a unique way to integrate body\, mind\, and spirit through stretches\, postures\, and relaxation. Students must provide their own mat.
X-ALT-DESC;FMTTYPE=text/html:<p>\n	&quot\;Yoga&quot\; is a powerful antidote to the stresses of modern-life and will do more than make you strong and flexible\; it is a unique way to integrate body\, mind\, and spirit through stretches\, postures\, and relaxation. Students must provide their own mat.</p>\n
LOCATION:302 S. Gammon Road Madison\, WI 53717
UID:e.1220.3172
SEQUENCE:3
DTSTAMP:20260419T210417Z
URL:http://greatermadisonchamber.chambermaster.com/events/details/yoga-08-29-2013-3172
END:VEVENT

END:VCALENDAR
