BEGIN:VCALENDAR
VERSION:2.0
PRODID:-//ChamberMaster//Event Calendar 2.0//EN
METHOD:PUBLISH
X-PUBLISHED-TTL:P3D
REFRESH-INTERVAL:P3D
CALSCALE:GREGORIAN
BEGIN:VEVENT
DTSTART:20130603T230000Z
DTEND:20130723T000000Z
X-MICROSOFT-CDO-ALLDAYEVENT:FALSE
SUMMARY:Zumba
DESCRIPTION:Zumba: Dance Fitness Program
X-ALT-DESC;FMTTYPE=text/html:<p>\n	Zumba: Dance Fitness Program</p>\n
LOCATION:302 South Gammon Rd.\, Madison\, WI 53717
UID:e.1220.2921
SEQUENCE:3
DTSTAMP:20260419T215153Z
URL:http://greatermadisonchamber.chambermaster.com/events/details/zumba-06-03-2013-2921
END:VEVENT

END:VCALENDAR
